BEGIN:VCALENDAR
VERSION:2.0
PRODID:-//Ladies Who Rock 4 A Cause - ECPv6.8.3//NONSGML v1.0//EN
CALSCALE:GREGORIAN
METHOD:PUBLISH
X-WR-CALNAME:Ladies Who Rock 4 A Cause
X-ORIGINAL-URL:http://www.ladieswhorock4acause.org
X-WR-CALDESC:Events for Ladies Who Rock 4 A Cause
REFRESH-INTERVAL;VALUE=DURATION:PT1H
X-Robots-Tag:noindex
X-PUBLISHED-TTL:PT1H
BEGIN:VTIMEZONE
TZID:America/New_York
BEGIN:DAYLIGHT
TZOFFSETFROM:-0500
TZOFFSETTO:-0400
TZNAME:EDT
DTSTART:20210314T070000
END:DAYLIGHT
BEGIN:STANDARD
TZOFFSETFROM:-0400
TZOFFSETTO:-0500
TZNAME:EST
DTSTART:20211107T060000
END:STANDARD
BEGIN:DAYLIGHT
TZOFFSETFROM:-0500
TZOFFSETTO:-0400
TZNAME:EDT
DTSTART:20220313T070000
END:DAYLIGHT
BEGIN:STANDARD
TZOFFSETFROM:-0400
TZOFFSETTO:-0500
TZNAME:EST
DTSTART:20221106T060000
END:STANDARD
BEGIN:DAYLIGHT
TZOFFSETFROM:-0500
TZOFFSETTO:-0400
TZNAME:EDT
DTSTART:20230312T070000
END:DAYLIGHT
BEGIN:STANDARD
TZOFFSETFROM:-0400
TZOFFSETTO:-0500
TZNAME:EST
DTSTART:20231105T060000
END:STANDARD
BEGIN:DAYLIGHT
TZOFFSETFROM:-0500
TZOFFSETTO:-0400
TZNAME:EDT
DTSTART:20240310T070000
END:DAYLIGHT
BEGIN:STANDARD
TZOFFSETFROM:-0400
TZOFFSETTO:-0500
TZNAME:EST
DTSTART:20241103T060000
END:STANDARD
BEGIN:DAYLIGHT
TZOFFSETFROM:-0500
TZOFFSETTO:-0400
TZNAME:EDT
DTSTART:20250309T070000
END:DAYLIGHT
BEGIN:STANDARD
TZOFFSETFROM:-0400
TZOFFSETTO:-0500
TZNAME:EST
DTSTART:20251102T060000
END:STANDARD
TZID:America/Los_Angeles
BEGIN:DAYLIGHT
TZOFFSETFROM:-0800
TZOFFSETTO:-0700
TZNAME:PDT
DTSTART:20150308T100000
END:DAYLIGHT
BEGIN:STANDARD
TZOFFSETFROM:-0700
TZOFFSETTO:-0800
TZNAME:PST
DTSTART:20151101T090000
END:STANDARD
BEGIN:DAYLIGHT
TZOFFSETFROM:-0800
TZOFFSETTO:-0700
TZNAME:PDT
DTSTART:20160313T100000
END:DAYLIGHT
BEGIN:STANDARD
TZOFFSETFROM:-0700
TZOFFSETTO:-0800
TZNAME:PST
DTSTART:20161106T090000
END:STANDARD
BEGIN:DAYLIGHT
TZOFFSETFROM:-0800
TZOFFSETTO:-0700
TZNAME:PDT
DTSTART:20170312T100000
END:DAYLIGHT
BEGIN:STANDARD
TZOFFSETFROM:-0700
TZOFFSETTO:-0800
TZNAME:PST
DTSTART:20171105T090000
END:STANDARD
BEGIN:DAYLIGHT
TZOFFSETFROM:-0800
TZOFFSETTO:-0700
TZNAME:PDT
DTSTART:20180311T100000
END:DAYLIGHT
BEGIN:STANDARD
TZOFFSETFROM:-0700
TZOFFSETTO:-0800
TZNAME:PST
DTSTART:20181104T090000
END:STANDARD
END:VTIMEZONE
BEGIN:VEVENT
DTSTART;VALUE=DATE:20250920
DTEND;VALUE=DATE:20250921
DTSTAMP:20260425T112340
CREATED:20250403T003230Z
LAST-MODIFIED:20250422T152012Z
UID:3647-1758326400-1758412799@www.ladieswhorock4acause.org
SUMMARY:Ladies Who Rock 4 A Cause Ten Year Anniversary Music Festival 2025
DESCRIPTION:More information coming soon including sponsor\, volunteer\, and donation opportunities along with lineup\, pre-sales\, and tickets sales\, hotel discounts and more. SAVE THIS DATE and get ready for a destination festival as we celebrate this amazing milestone together!
URL:http://www.ladieswhorock4acause.org/event/ladies-who-rock-4-a-cause-ten-year-anniversary-music-festival-2025/
LOCATION:Ceasar’s Pier\, ACX1 Studioes\,  Atlantic City\, NJ\, 1 Atlantic Ocean\, Atlantic City\, NJ\, 08401\, United States
CATEGORIES:Charity
ATTACH;FMTTYPE=image/png:http://www.ladieswhorock4acause.org/wp-content/uploads/2025/04/LWR-2025-EVENT-SLIDE-FOR-WEBSITE-.png
ORGANIZER;CN="Ladies Who Rock 4 A Cause Foundation":MAILTO:info@ladieswhorock4acause.org
END:VEVENT
BEGIN:VEVENT
DTSTART;TZID=America/New_York:20230909T120000
DTEND;TZID=America/New_York:20230909T220000
DTSTAMP:20260425T112340
CREATED:20230626T125801Z
LAST-MODIFIED:20230818T042558Z
UID:3538-1694260800-1694296800@www.ladieswhorock4acause.org
SUMMARY:2023 6th Annual Festival
DESCRIPTION:http://www.ladieswhorock4acause.org/wp-content/uploads/2023/06/lwr-23-sizzle-reel-2.mp4\nGET US TO 20!\nHelp us reach our goal of impacting the lives of  TWENTY  women with this year’s efforts!\nLadies Who Rock 4 A Cause 6th Annual Music Festival\nSeptember 09\, 2023\, 12 pm to 10 pm\nCannstatter Volksfest-Verein\n9120 Academy Rd.\nPhiladelphia PA 19114\nTickets and other info \n\nTICKETS ARE NON-TRANSFERRABLE WITHOUT LETTING US KNOW and is a donation.  No refunds.\nGeneral Admission: $45. The first 100 attendees with tickets bought ahead of time\, will receive swag bags\nVIP Experience: $85. Includes Wine/Beer/Soda\, light refreshments\, a sectioned-off area under a large tent and swag\, and VIP wristbands.\nTickets are available online at Ticket Link\nThe event is an outdoor event\, rain or shine.\nArtisan Vendors!!!!\nBeer Garden\, food\, and drinks are available for purchase.\nRaffles and more.\nStrike a pose on our Pink Carpet Experience™ (Photos on the pink carpet).\nVisit our super fun hub and our ambassadors at our Pop-Up-Rock-Shop™\nLawn chairs and blankets are allowed.\nChildren under 12 admitted free – must be accompanied by an adult at all times.\nNo pets\nNo outside food/drink permitted.\nFree Parking.\nHAVING FUN REQUIRED 🙂\n\n 
URL:http://www.ladieswhorock4acause.org/event/2023-6th-annual-festival/
LOCATION:Cannstatter Volksfest-Verein\, 9130 Academy Road\, Philly\, PA\, 19114\, United States
CATEGORIES:Charity
ATTACH;FMTTYPE=image/png:http://www.ladieswhorock4acause.org/wp-content/uploads/2023/06/LWR-23-FB-page-header-1.png
ORGANIZER;CN="Ladies Who Rock 4 A Cause Foundation":MAILTO:info@ladieswhorock4acause.org
END:VEVENT
BEGIN:VEVENT
DTSTART;TZID=America/New_York:20221008T120000
DTEND;TZID=America/New_York:20221008T220000
DTSTAMP:20260425T112340
CREATED:20220408T134622Z
LAST-MODIFIED:20221028T141912Z
UID:2883-1665230400-1665266400@www.ladieswhorock4acause.org
SUMMARY:2022 5th Annual Music Festival
DESCRIPTION:We thank our ladies’\, our sponsors\, our donors\, volunteers\, ambassadors\, and team!\n5th Annual Ladies Who Rock 4 A Cause Music Festival!\nWe celebrated a milestone as live music returns! \nOur lineup\, featuring Taylor Dayne\, Tiffany\, Jennifer Paige\, Sharon Lia Band\, Kick It Out-A Tribute to Heart Gretchen Emery Band\, Della Chase\, Lisa Bouchelle\, Skylar Love was amazing.  These leading ladies (and their bands) shared their gift of music to help grow our vision of helping our mothers\, sisters\, daughters\, women facing crisis. \nSome highlights in photos\n(credit John Long\, Heather Vallies\, Ashley Haer\, Steve Joseph\, Sharon Lia)\n\n			\n				\n			\n				\n				Taylor Dayne Ladies Who Rock 4 A Cause 5th Annual Music festival\n				\n			\n				\n			\n				\n				Taylor Dayne Ladies Who Rock 4 A Cause 5th Annual Music festival\n				\n			\n				\n			\n				\n				Rick Jannotti co-fdr & CFO\, wearing many hats\, here\, Stage Manager 2022 Ladies Who Rock 4 A Cause 5th Annual Music festival\n				\n			\n				\n			\n				\n				Taylor Dayne Ladies Who Rock 4 A Cause 5th Annual Music festival\n				\n			\n				\n			\n				\n				Festival goers 2022 Ladies Who Rock 4 A Cause 5th Annual Music festival\n				\n			\n				\n			\n				\n				Tiffany Ladies Who Rock 4 A Cause 5th Annual Music festival\n				\n			\n				\n			\n				\n				Tiffany Ladies Who Rock 4 A Cause 5th Annual Music festival\n				\n			\n				\n			\n				\n				Festival goers 2022 Ladies Who Rock 4 A Cause 5th Annual Music festival\n				\n			\n				\n			\n				\n				Sharon Lia\, Fdr & CEO receiving Senatorial Commendation from Sen Jimmy Dillon 2022 Ladies Who Rock 4 A Cause 5th Annual Music festival\n				\n			\n				\n			\n				\n				Festival goers 2022 Ladies Who Rock 4 A Cause 5th Annual Music festival\n				\n			\n				\n			\n				\n				Jennifer Paige Ladies Who Rock 4 A Cause 5th Annual Music festival\n				\n			\n				\n			\n				\n				Sharon Lia Band 2022 Ladies Who Rock 4 A Cause 5th Annual Music festival\n				\n			\n				\n			\n				\n				Tiffany 2022 Ladies Who Rock 4 A Cause 5th Annual Music festival\n				\n			\n				\n			\n				\n				Jennifer Paige Ladies Who Rock 4 A Cause 5th Annual Music festival\n				\n			\n				\n			\n				\n				Sharon Lia Band 2022 Ladies Who Rock 4 A Cause 5th Annual Music festival\n				\n			\n				\n			\n				\n				Sharon Lia pictured with Jennifer Paige on the Pink Carpet LWR4AC Festival 2022\n				\n			\n				\n			\n				\n				Taylor Dayne\, Sharon Lia\, Tiffany on the Pink Carpet at the Ladies Who Rock 4 A Cause 5th Annual Music Festival 2022\n				\n			\n				\n			\n				\n				Sharon Lia pictured with Tiffany on the Pink Carpet LWR4AC Festival 2022\n				\n			\n				\n			\n				\n				Sandy Hall & Kick it Out 2022 Ladies Who Rock 4 A Cause 5th Annual Music festival\n				\n			\n				\n			\n				\n				Taylor Dayne closes the 2022 LWR4AC Festival\n				\n			\n				\n			\n				\n				Photographers Heather Vallies and Ashley Haer crushing the Pink Carpet experience with some pink carpet rockstarts!\n				\n			\n				\n			\n				\n				Winner of the autographed customized Ladies Who Rock guitar\n				\n			\n				\n			\n				\n				Wrecked Cotton Candy -just one of our incredible vendors at 2022 Ladies Who Rock 4 A Cause 5th Annual Music festival\n				\n		\n\nSome special highlights\n \n \nWe thank our sponsors Chauvet DJ Lights\, Dunphy Ford\, Safety House\, Eberharts Custom Embroidery\, Alpha Graphics of Cherry Hill\, Penny Gardens Tavern\, Pepsi\, Cetlin\, Anthony Destribats Esq. (Destribats Law) Spa Essence\, Sun Rae Media\, Sharrick Records\,\n \nTees are still available and on sale now!\nPost a selfie and tag us!\n#LadiesWhoRock4ACause\n#ShowUsYourWings \n#WingsUp\nand don’t forget to rock that Donate BUTTON! \nWhether you rock the stage or rock in life\, you can make a difference!\n  \n 
URL:http://www.ladieswhorock4acause.org/event/2022-5th-annual-music-festival/
LOCATION:Cannstatter Volksfest-Verein\, 9130 Academy Road\, Philly\, PA\, 19114\, United States
CATEGORIES:Charity,Events
ATTACH;FMTTYPE=image/jpeg:http://www.ladieswhorock4acause.org/wp-content/uploads/2022/04/taylor-dayne-lwr4ac-2022.jpg
ORGANIZER;CN="Ladies Who Rock 4 A Cause Foundation":MAILTO:info@ladieswhorock4acause.org
END:VEVENT
BEGIN:VEVENT
DTSTART;TZID=America/New_York:20210418T200000
DTEND;TZID=America/New_York:20210418T230000
DTSTAMP:20260425T112340
CREATED:20200528T050006Z
LAST-MODIFIED:20220618T193407Z
UID:1036-1618776000-1618786800@www.ladieswhorock4acause.org
SUMMARY:2021 Ladies Who Rock 4 A Cause Virtual Festival
DESCRIPTION:[vc_row][vc_column][vc_column_text] \n2021 Virtual Music Festival was held on April 18th\, 2021\, at 8:00 PM EST.\nSponsored by PreSonus\, Discmakers\, Diamond Discovery\, TMS Yoga\, GPLaw\, SmartSource \nThis VIRTUAL event streamed live on Facebook and was streamed worldwide. \nIncluded in the ALL female-fronted lineup were fantastic music performances from GRAMMY® Award and Indie Award-winning artists from around the globe without the boundaries of a grassy knoll (even though we can not wait for live events to return!) \nOur event was MC’d by a host of amazing people including Marilyn Russell Radio Host (and host of Remarkable Women spotlight series)\, Marci Hopkins TV Host of Wake Up With Marci on WLNY55\,  Lauren Hart GRAMMY® chapter president\,  Lisa Bien motivational speaker\, and TV host\, and Chance Spiessbach (host of Chance TV’s CBS’s The Too Late Show With Chance”. \n  \nOur Virtual Concert is available to watch on Facebook and youtube. \nCheck out our all-female fronted artist lineup below.  Catch the replay if you missed it! \n2021 Ladies Who Rock For A Cause Festival Lineup Sponsored by PreSonus and Smart Source\n\n			\n				\n			\n				\n				Marilyn Russell\n				\n			\n				\n			\n				\n				Marci Hopkins\n				\n			\n				\n			\n				\n				Lauren Hart\n				\n			\n				\n			\n				\n				Lisa Bien\n				\n			\n				\n			\n				\n				Mama Jan Smith\n				\n			\n				\n			\n				\n				Susan Bro\n				\n		\n\nhttp://www.ladieswhorock4acause.org/wp-content/uploads/2020/05/CHANCE-TV-LADIES-W-R.mp4\nhttp://www.ladieswhorock4acause.org/wp-content/uploads/2020/05/ladies-who-rock-shoutout.mp4\nFor more information about our festivals or our cause\, email info@ladieswhorock4acause.org or call 267-961-2617.[/vc_column_text][/vc_column][/vc_row]
URL:http://www.ladieswhorock4acause.org/event/ladies-who-rock-4-a-cause-2021-festival/
LOCATION:Philadelphia\, PA\, Virtual Event
CATEGORIES:Charity,Past Event
ATTACH;FMTTYPE=image/jpeg:http://www.ladieswhorock4acause.org/wp-content/uploads/2022/04/LWR_WEB_IMAGE-RECTANGLE.jpg
ORGANIZER;CN="Ladies Who Rock 4 A Cause Foundation":MAILTO:info@ladieswhorock4acause.org
END:VEVENT
BEGIN:VEVENT
DTSTART;TZID=America/Los_Angeles:20180609T120000
DTEND;TZID=America/Los_Angeles:20180609T230000
DTSTAMP:20260425T112340
CREATED:20200521T015456Z
LAST-MODIFIED:20220618T193420Z
UID:2066-1528545600-1528585200@www.ladieswhorock4acause.org
SUMMARY:2018 Inaugural Outdoor Music Festival
DESCRIPTION:Join the Tri-State Area’s Best Female Fronted Original\, Cover & Tribute Bands as the Rock 4 A Cause. \nA portion of the proceeds from this event will help the Sunshine Foundation answer the dream of a chronically ill\, seriously ill\, physically challenged\, or abused child aged 3 to 18\, whose family cannot fulfill their request due to the financial strain child’s illness may cause. \nThe Line Up: \n\nLauren Marsh\nBebe Le Strange\nSpellbound\nMelissa Schill\nKickbax\nBlack Cat Habitat\nShayna Ryan\nSharon Lia Band\nArfobear\nTerretta Storm\nLisa Coppola\nSteamboat Annie\nMarjo Bono (Dance Artist)
URL:http://www.ladieswhorock4acause.org/event/2018-inaugural-outdoor-music-festival/
LOCATION:Cannstatter Volksfest-Verein\, 9130 Academy Road\, Philly\, PA\, 19114\, United States
CATEGORIES:Charity,Past Event
ATTACH;FMTTYPE=image/jpeg:http://www.ladieswhorock4acause.org/wp-content/uploads/2020/05/LWR__FacebookBanner_LADIESBack_burg.jpg
ORGANIZER;CN="Ladies Who Rock 4 A Cause Foundation":MAILTO:info@ladieswhorock4acause.org
END:VEVENT
BEGIN:VEVENT
DTSTART;TZID=America/Los_Angeles:20161022T080000
DTEND;TZID=America/Los_Angeles:20161022T170000
DTSTAMP:20260425T112340
CREATED:20200520T200412Z
LAST-MODIFIED:20220618T193431Z
UID:2058-1477123200-1477155600@www.ladieswhorock4acause.org
SUMMARY:2016 Charitable Indoor Music Festival
DESCRIPTION:Female Fronted Bands joining forces for the 2nd Annual Ladies Who Rock 4 A Cause Concert \nLINE UP: \n\nNicki Sbaffoni Acoustic\nJones and Archangels\nShayna Ryan Acoustic\nHoney Spot Blvd\nCara Cartney Acoustic\nThe Crush\nLaura Fiocco Acoustic\nGenerals Krank\nQT QuirkTones\nPixietwist\nSteamboat Annie\nSharon Lia Band\n\n \nSponsored By: ZEO Brothers
URL:http://www.ladieswhorock4acause.org/event/2016-indoor-festival/
LOCATION:McStews Red Room\, 5316 New Falls Road\, Levitttown\, PA\, United States
CATEGORIES:Charity,Past Event
ATTACH;FMTTYPE=image/jpeg:http://www.ladieswhorock4acause.org/wp-content/uploads/2022/04/LWR_WEB_IMAGE-RECTANGLE.jpg
ORGANIZER;CN="Ladies Who Rock 4 A Cause Foundation":MAILTO:info@ladieswhorock4acause.org
END:VEVENT
BEGIN:VEVENT
DTSTART;TZID=America/Los_Angeles:20160611T190000
DTEND;TZID=America/Los_Angeles:20160611T230000
DTSTAMP:20260425T112340
CREATED:20200521T022057Z
LAST-MODIFIED:20220618T193444Z
UID:2069-1465671600-1465686000@www.ladieswhorock4acause.org
SUMMARY:2016 A Prom to Remember
DESCRIPTION:Ladies Who Rock 4 A Cause holds A “Prom to Remember” \nTo Benefit Ryan & Jack\, two brothers with Duchenne MD. \n 
URL:http://www.ladieswhorock4acause.org/event/2016-a-prom-to-remember/
LOCATION:The Club at Fulmor Heights\, 413 Winner Road\, Hatboro\, PA\, 19040\, United States
CATEGORIES:Charity,Past Event
ATTACH;FMTTYPE=image/jpeg:http://www.ladieswhorock4acause.org/wp-content/uploads/2022/04/LWR_WEB_IMAGE-RECTANGLE.jpg
ORGANIZER;CN="Ladies Who Rock 4 A Cause Foundation":MAILTO:info@ladieswhorock4acause.org
END:VEVENT
BEGIN:VEVENT
DTSTART;TZID=America/Los_Angeles:20151017T080000
DTEND;TZID=America/Los_Angeles:20151017T170000
DTSTAMP:20260425T112340
CREATED:20171017T205911Z
LAST-MODIFIED:20220618T193458Z
UID:2564-1445068800-1445101200@www.ladieswhorock4acause.org
SUMMARY:2015 Inaugural Charitable Concert
DESCRIPTION:
URL:http://www.ladieswhorock4acause.org/event/2015-ladies-who-rock-4-a-cause-charitable-concert/
LOCATION:NJ
CATEGORIES:Charity,Past Event
ATTACH;FMTTYPE=image/jpeg:http://www.ladieswhorock4acause.org/wp-content/uploads/2021/01/12063461_10206967983831630_8783004548777698715_n.jpg
END:VEVENT
END:VCALENDAR